BEGIN:VCALENDAR
VERSION:2.0
PRODID:-//Perry County Amateur Radio Club - ECPv6.15.20//NONSGML v1.0//EN
CALSCALE:GREGORIAN
METHOD:PUBLISH
X-WR-CALNAME:Perry County Amateur Radio Club
X-ORIGINAL-URL:https://perrycountyarc.org
X-WR-CALDESC:Events for Perry County Amateur Radio Club
REFRESH-INTERVAL;VALUE=DURATION:PT1H
X-Robots-Tag:noindex
X-PUBLISHED-TTL:PT1H
BEGIN:VTIMEZONE
TZID:UTC
BEGIN:STANDARD
TZOFFSETFROM:+0000
TZOFFSETTO:+0000
TZNAME:UTC
DTSTART:20200101T000000
END:STANDARD
END:VTIMEZONE
BEGIN:VEVENT
DTSTART;TZID=UTC:20211123T190000
DTEND;TZID=UTC:20211123T193000
DTSTAMP:20260421T202344
CREATED:20211104T031931Z
LAST-MODIFIED:20211104T031931Z
UID:157-1637694000-1637695800@perrycountyarc.org
SUMMARY:Weekly UHF Net
DESCRIPTION:Tuesday Night Net on 444.550 Repeater
URL:https://perrycountyarc.org/event/weekly-uhf-net-3/
END:VEVENT
END:VCALENDAR