BEGIN:VCALENDAR
VERSION:2.0
PRODID:-//Perry County Amateur Radio Club - ECPv6.15.20//NONSGML v1.0//EN
CALSCALE:GREGORIAN
METHOD:PUBLISH
X-WR-CALNAME:Perry County Amateur Radio Club
X-ORIGINAL-URL:https://perrycountyarc.org
X-WR-CALDESC:Events for Perry County Amateur Radio Club
REFRESH-INTERVAL;VALUE=DURATION:PT1H
X-Robots-Tag:noindex
X-PUBLISHED-TTL:PT1H
BEGIN:VTIMEZONE
TZID:America/New_York
BEGIN:DAYLIGHT
TZOFFSETFROM:-0500
TZOFFSETTO:-0400
TZNAME:EDT
DTSTART:20210314T070000
END:DAYLIGHT
BEGIN:STANDARD
TZOFFSETFROM:-0400
TZOFFSETTO:-0500
TZNAME:EST
DTSTART:20211107T060000
END:STANDARD
BEGIN:DAYLIGHT
TZOFFSETFROM:-0500
TZOFFSETTO:-0400
TZNAME:EDT
DTSTART:20220313T070000
END:DAYLIGHT
BEGIN:STANDARD
TZOFFSETFROM:-0400
TZOFFSETTO:-0500
TZNAME:EST
DTSTART:20221106T060000
END:STANDARD
BEGIN:DAYLIGHT
TZOFFSETFROM:-0500
TZOFFSETTO:-0400
TZNAME:EDT
DTSTART:20230312T070000
END:DAYLIGHT
BEGIN:STANDARD
TZOFFSETFROM:-0400
TZOFFSETTO:-0500
TZNAME:EST
DTSTART:20231105T060000
END:STANDARD
BEGIN:DAYLIGHT
TZOFFSETFROM:-0500
TZOFFSETTO:-0400
TZNAME:EDT
DTSTART:20240310T070000
END:DAYLIGHT
BEGIN:STANDARD
TZOFFSETFROM:-0400
TZOFFSETTO:-0500
TZNAME:EST
DTSTART:20241103T060000
END:STANDARD
END:VTIMEZONE
BEGIN:VTIMEZONE
TZID:UTC
BEGIN:STANDARD
TZOFFSETFROM:+0000
TZOFFSETTO:+0000
TZNAME:UTC
DTSTART:20200101T000000
END:STANDARD
END:VTIMEZONE
BEGIN:VEVENT
DTSTART;TZID=America/New_York:20230624T080000
DTEND;TZID=America/New_York:20230625T180000
DTSTAMP:20260421T184518
CREATED:20230614T140620Z
LAST-MODIFIED:20230614T140621Z
UID:374-1687593600-1687716000@perrycountyarc.org
SUMMARY:PCARC Field Day 2023
DESCRIPTION:Join us for Field Day 2023 where we will operate 2 regular transmitters and a 3rd transmitter as a GOTA station with our newer licensees! Bring a snack or side dish to share if you would like\, equipment list and food list can be found at – https://docs.google.com/spreadsheets/d/1KZHB31OZrkbB_Sd_xEhK77EWQ7bM8HAYTOQE7C0YA-0/edit?usp=sharing  \n\n\n\nPlease add food items or unfilled equipment items you wish to bring to the spreadsheet so we know what remains to be obtained.  \n\n\n\n \n\n\n\nGathering at 8 AM to begin setup\, event begins on-air at 2 PM. Hope to see you there!
URL:https://perrycountyarc.org/event/pcarc-field-day-2023/
END:VEVENT
BEGIN:VEVENT
DTSTART;TZID=America/New_York:20230527T080000
DTEND;TZID=America/New_York:20230527T170000
DTSTAMP:20260421T184518
CREATED:20230219T221719Z
LAST-MODIFIED:20230219T231427Z
UID:336-1685174400-1685206800@perrycountyarc.org
SUMMARY:Celebrating Marie Doro
DESCRIPTION:May 27\, 2023: Special Event Celebrating Marie Doro. \n\n\n\nMarie Doro (born Marie Katherine Stewart on May 25th\, 1882) was a native of Duncannon PA. She was a famous stage and silent film actress rivaling Mary Pickford. When she was on stage in England a young Charlie Chaplin had an unrequited crush on her! She was invited to perform at Windsor Palace on February 2\, 1914\, making her the first American actress to receive the honor of a royal invitation! \n\n\n\nShe went on to make 18 films between 1915 and 1922 and was featured on the cover of magazines and in advertising. She died at age 74 on October 9th\, 1956. She was buried in her hometown of Duncannon PA. \n\n\n\nFor a certificate for working our special event send QSO information and your e-mail address to events@perrycountyarc.org and you will receive a printable certificate! \n\n\n\nWe are celebrating the history of Perry County PA and this is the first of our planned special events.
URL:https://perrycountyarc.org/event/celebrating-marie-doro/
CATEGORIES:Perry County Club Events
END:VEVENT
BEGIN:VEVENT
DTSTART;TZID=America/New_York:20220625T090000
DTEND;TZID=America/New_York:20220626T160000
DTSTAMP:20260421T184518
CREATED:20220621T014109Z
LAST-MODIFIED:20220621T014112Z
UID:303-1656147600-1656259200@perrycountyarc.org
SUMMARY:PCARC Field Day 2022
DESCRIPTION:Join us for Field Day at N3RPM’s residence! Setup begins at 0900 and event goes on-air at 1400 EDT!
URL:https://perrycountyarc.org/event/pcarc-field-day-2022/
LOCATION:Field Day\, 153 Pisgah State Road\, Shermans Dale\, Pennsylvania\, 17090\, United States
END:VEVENT
BEGIN:VEVENT
DTSTART;TZID=America/New_York:20220310T190000
DTEND;TZID=America/New_York:20220310T200000
DTSTAMP:20260421T184518
CREATED:20220301T212819Z
LAST-MODIFIED:20220301T212819Z
UID:239-1646938800-1646942400@perrycountyarc.org
SUMMARY:PCARC Zoom
DESCRIPTION:This is the monthly zoom meeting of the PCARC
URL:https://perrycountyarc.org/event/pcarc-zoom/
CATEGORIES:Perry County Club Events
END:VEVENT
BEGIN:VEVENT
DTSTART;TZID=UTC:20211214T190000
DTEND;TZID=UTC:20211214T193000
DTSTAMP:20260421T184518
CREATED:20211104T032128Z
LAST-MODIFIED:20211104T032128Z
UID:163-1639508400-1639510200@perrycountyarc.org
SUMMARY:Weekly UHF Net
DESCRIPTION:Tuesday Night Net on 444.550 Repeater
URL:https://perrycountyarc.org/event/weekly-uhf-net-6/
END:VEVENT
BEGIN:VEVENT
DTSTART;TZID=UTC:20211210T190000
DTEND;TZID=UTC:20211212T200000
DTSTAMP:20260421T184518
CREATED:20211104T032431Z
LAST-MODIFIED:20211104T032431Z
UID:165-1639162800-1639339200@perrycountyarc.org
SUMMARY:10 Meter Contest
DESCRIPTION:Objective: For Amateurs worldwide to exchange QSO information with as many stations as possible on the 10 meter band.
URL:https://perrycountyarc.org/event/10-meter-contest/
END:VEVENT
BEGIN:VEVENT
DTSTART;TZID=UTC:20211207T070000
DTEND;TZID=UTC:20211207T193000
DTSTAMP:20260421T184518
CREATED:20211104T032020Z
LAST-MODIFIED:20211104T032020Z
UID:159-1638860400-1638905400@perrycountyarc.org
SUMMARY:Weekly UHF Net
DESCRIPTION:Tuesday Night Net on 444.550 Repeater
URL:https://perrycountyarc.org/event/weekly-uhf-net-4/
END:VEVENT
BEGIN:VEVENT
DTSTART;TZID=UTC:20211130T070000
DTEND;TZID=UTC:20211130T193000
DTSTAMP:20260421T184518
CREATED:20211104T032052Z
LAST-MODIFIED:20211104T032052Z
UID:161-1638255600-1638300600@perrycountyarc.org
SUMMARY:Weekly UHF Net
DESCRIPTION:Tuesday Night Net on 444.550 Repeater
URL:https://perrycountyarc.org/event/weekly-uhf-net-5/
END:VEVENT
BEGIN:VEVENT
DTSTART;TZID=UTC:20211123T190000
DTEND;TZID=UTC:20211123T193000
DTSTAMP:20260421T184518
CREATED:20211104T031931Z
LAST-MODIFIED:20211104T031931Z
UID:157-1637694000-1637695800@perrycountyarc.org
SUMMARY:Weekly UHF Net
DESCRIPTION:Tuesday Night Net on 444.550 Repeater
URL:https://perrycountyarc.org/event/weekly-uhf-net-3/
END:VEVENT
BEGIN:VEVENT
DTSTART;TZID=UTC:20211120T050000
DTEND;TZID=UTC:20211122T230000
DTSTAMP:20260421T184518
CREATED:20211104T031701Z
LAST-MODIFIED:20211104T031701Z
UID:152-1637384400-1637622000@perrycountyarc.org
SUMMARY:ARRL November Sweepstakes
DESCRIPTION:Contest Objective: To support amateur self-training in radiocommunications\, including improving amateur operating skills\, conducting technical investigations\, and intercommunicating with other amateurs. Stations in the United States and Canada (including territories and possessions) exchange information with as many other US and Canadian stations as possible on the 160\, 80\, 40\, 20\, 15 and 10 meter bands. \nPhone: Third full weekend in November (November 20-22\, 2021).\nContest Period: Begins 2100 UTC Saturday and runs through 0259 UTC Monday.
URL:https://perrycountyarc.org/event/arrl-november-sweepstakes/
END:VEVENT
BEGIN:VEVENT
DTSTART;TZID=UTC:20211118T073000
DTEND;TZID=UTC:20211118T203000
DTSTAMP:20260421T184518
CREATED:20211104T032832Z
LAST-MODIFIED:20211104T032832Z
UID:167-1637220600-1637267400@perrycountyarc.org
SUMMARY:Perry County Amateur Radio Club Meeting
DESCRIPTION:First Club Meeting via Zoom \nRegistration: https://us02web.zoom.us/meeting/register/tZYtfuGsrzsiG9eMu0FPt8fMNLqZyL9T5Wqn \n 
URL:https://perrycountyarc.org/event/perry-county-amateur-radio-club-meeting/
END:VEVENT
BEGIN:VEVENT
DTSTART;TZID=UTC:20211116T070000
DTEND;TZID=UTC:20211116T193000
DTSTAMP:20260421T184518
CREATED:20211104T031841Z
LAST-MODIFIED:20211104T031841Z
UID:154-1637046000-1637091000@perrycountyarc.org
SUMMARY:Weekly UHF Net
DESCRIPTION:Tuesday Night Net on 444.550 Repeater
URL:https://perrycountyarc.org/event/weekly-uhf-net-2/
END:VEVENT
BEGIN:VEVENT
DTSTART;TZID=UTC:20211109T070000
DTEND;TZID=UTC:20211109T193000
DTSTAMP:20260421T184518
CREATED:20211103T042347Z
LAST-MODIFIED:20211103T043434Z
UID:139-1636441200-1636486200@perrycountyarc.org
SUMMARY:Weekly UHF Net
DESCRIPTION:Tuesday Night Net on 444.550 Repeater
URL:https://perrycountyarc.org/event/weekly-uhf-net/
CATEGORIES:Perry County Club Events
END:VEVENT
BEGIN:VEVENT
DTSTART;TZID=UTC:20211106T160000
DTEND;TZID=UTC:20211108T230000
DTSTAMP:20260421T184518
CREATED:20211103T043813Z
LAST-MODIFIED:20211104T031333Z
UID:146-1636214400-1636412400@perrycountyarc.org
SUMMARY:ARRL Sweepstakes Contest\, CW
DESCRIPTION:Contest Objective: To support amateur self-training in radiocommunications\, including improving amateur operating skills\, conducting technical investigations\, and intercommunicating with other amateurs. Stations in the United States and Canada (including territories and possessions) exchange information with as many other US and Canadian stations as possible on the 160\, 80\, 40\, 20\, 15 and 10 meter bands.
URL:https://perrycountyarc.org/event/arrl-sweepstakes-contest-cw/
CATEGORIES:ARRL Events
END:VEVENT
BEGIN:VEVENT
DTSTART;TZID=UTC:20211106T090000
DTEND;TZID=UTC:20211106T093000
DTSTAMP:20260421T184518
CREATED:20211104T031226Z
LAST-MODIFIED:20211104T031226Z
UID:149-1636189200-1636191000@perrycountyarc.org
SUMMARY:Two-Meter Classic Sprint
DESCRIPTION:Modes: SSB and CW only\nBand: Two-meters only\nFrequencies: 144.050 -144.100 MHz CW only\, 144.200-144.270 MHz SSB only\nExchange: Consecutive serial number and grid square
URL:https://perrycountyarc.org/event/two-meter-classic-sprint/
END:VEVENT
END:VCALENDAR